BEGIN:VCALENDAR
VERSION:2.0
PRODID:-//zuschuesse - ECPv5.14.0.3//NONSGML v1.0//EN
CALSCALE:GREGORIAN
METHOD:PUBLISH
X-WR-CALNAME:zuschuesse
X-ORIGINAL-URL:https://www.zuschuesse.de
X-WR-CALDESC:Veranstaltungen für zuschuesse
BEGIN:VTIMEZONE
TZID:UTC
BEGIN:STANDARD
TZOFFSETFROM:+0000
TZOFFSETTO:+0000
TZNAME:UTC
DTSTART:20190101T000000
END:STANDARD
END:VTIMEZONE
BEGIN:VEVENT
DTSTART;VALUE=DATE:20191105
DTEND;VALUE=DATE:20191106
DTSTAMP:20260420T180453
CREATED:20190909T132156Z
LAST-MODIFIED:20190916T050256Z
UID:3794-1572912000-1572998399@www.zuschuesse.de
SUMMARY:AC² - der Gründungswettbewerb
DESCRIPTION:Der AC² ist ein zweistufiger  Businessplan-Wettbewerb\, bei dem die Teilnehmer mit einem persönlichen Mentor einen Businessplan entwickeln und damit insgesamt  22.500 Euro Preisgeld gewinnen können. Der Wettbewerb läuft in zwei Phasen ab. In der ersten Phase erstellen Sie eine grobe Planung\, die in der zweiten Phase  überarbeit\, verbessert und präzisiert wird und zu einem detaillierten Businessplan ausgearbeitet wird. \n  \nIm Überblick \nAusrichter:           Startercenter NRW. \nRegion:                 Wirtschaftsregion Aachen\, Düren\, Euskirchen\, Heinsberg \nWebseite:            www.gruenderregion.de \nBeginn:                 05. November 2019 \nEnde:                   09. Juni 2020 \n  \nDie Teilnahmebedingungen \nDer Businessplanwettbewerb ist offen für alle\, die eine Geschäftsidee haben und eine Existenzgründung anstreben. Pro Person kann nur eine Idee als Wettbewerbsbeitrag eingereicht werden. Businesspläne für Unternehmen\, deren Gründung bereits länger als ein Jahr zurück liegt\, können bei der Preisverleihung nicht berücksichtigt werden. \nDie Preise \n\nPlatz: 10.000 Euro\nPlatz: 7.500 Euro\nPlatz: 5.000 Euro\n\n  \nDer Ablauf \nDer Businessplanwettbewerb läuft in zwei Phasen ab. In der ersten Phase erstellen Sie ein Grobkonzept\, das in Phase II zu einem detaillierten Businessplan ausgearbeitet wird. Die eingereichten Businesspläne jeder Phase werden durch je zwei unabhängige Gutachter geprüft und bewertet. \nDie zehn besten Pläne der Phase I werden im Rahmen einer Zwischenprämierung ausgezeichnet. Die zehn Erfolg versprechendsten Detail – Businesspläne der Phase II stellen sich außerdem einer hochkarätig besetzten Jury. Diese wählt die besten drei Gründungsprojekte aus\, welche im Rahmen einer feierlichen Prämierungsfeier mit attraktiven Geld- und Sachpreisen ausgezeichnet werden. \n(Quelle: https://www.gruenderregion.de/wettbewerbe/ac2-der-gruendungswettbewerb/ablauf.html) \n  \nDie Preisverleihung \nDie Preisverleihung findet am 9. Juni 2020  im Rathaus Aachen statt.
URL:https://www.zuschuesse.de/event/ac%c2%b2-der-gruendungswettbewerb/
CATEGORIES:Gründerwettbewerbe
END:VEVENT
END:VCALENDAR