BEGIN:VCALENDAR
VERSION:2.0
PRODID:-//zuschuesse - ECPv5.14.0.3//NONSGML v1.0//EN
CALSCALE:GREGORIAN
METHOD:PUBLISH
X-WR-CALNAME:zuschuesse
X-ORIGINAL-URL:https://www.zuschuesse.de
X-WR-CALDESC:Veranstaltungen für zuschuesse
BEGIN:VTIMEZONE
TZID:UTC
BEGIN:STANDARD
TZOFFSETFROM:+0000
TZOFFSETTO:+0000
TZNAME:UTC
DTSTART:20200101T000000
END:STANDARD
END:VTIMEZONE
BEGIN:VEVENT
DTSTART;VALUE=DATE:20200112
DTEND;VALUE=DATE:20200113
DTSTAMP:20260420T174604
CREATED:20190916T043504Z
LAST-MODIFIED:20190916T044112Z
UID:3819-1578787200-1578873599@www.zuschuesse.de
SUMMARY:breakthrough award 2020
DESCRIPTION:Stellen Sie ihr Produkt vor und gewinnen Sie 500.000 Euro Medialeistung und 16.000 Euro für Ihr Start-Up. Bei dem Start-up Wettbewerb werden Produkte oder Dienstleistungen gesucht\, die 2020 den Durchbruch schaffen könnten. Zuerst wählt die Community  in mehreren Kategorien ihre Favoriten. Aus den Top-Platzierungen des User-Votings wählt anschließend eine Jury\, bestehend aus den Bereichen: Wissenschaft\,Investoren\, Gründer und Unternehmenslenker\, über die drei Start-Up-Sieger des breakthrough 2020 awards. \n  \nIm Überblick \nAusrichter:           WEKA MEDIA PUBLISHING GmbH \nRegion:                  deutschlandweit \nWebseite:            www.breakthrough-award.com/de/ \nBewerbungsfrist:   12. Januar 2020 \n  \nDie Preise \nDas Preisgeld wird von der NRW.BANK gestiftet \n\nPlatz: Medialeistung in den Online- und Printmedien von WEKA MEDIA PUBLISHING in Höhe von 300.000 Euro und 10.000 Euro Geldpreis\nPlatz: 150.000 Euro MediaLeistung sowie 4.000 Euro Geldpreis\nPlatz: 50.000 Euro Medialeistung und 2.000 Euro Geldpreis.\n\n  \n  \nDer Ablauf \nUSER-VOTING \nWir stellen die eingereichten Produkte und Dienstleistungen inklusive Backlink auf www.connect.de vor. Die Community wählt in mehreren Kategorien\, welchen Produkten und Dienstleistungen sie den Durchbruch 2020 zutraut. Jede Woche werden wir unter www.connect.de den aktuellen Zwischenstand präsentieren. \nDas Voting findet vom 01.02.2020 bis 31.03.2020 statt. \n  \nJURY-ENTSCHEIDUNG \nUnter den Top-Platzierungen (Anzahl abhängig von Gesamtanzahl der Bewerbungen) des User-Votings entscheidet anschließend eine hochkarätig besetzte Jury (Wissenschaft\,Investoren\, Gründer\, Unternehmenslenker) über die drei Start-Up-Sieger des breakthrough 2020 awards. \n  \nDie Preisverleihung \nIn einer großen Veranstaltung in Dresden werden die Kategoriesieger sowie die Start-Up-Top 3 gekürt.
URL:https://www.zuschuesse.de/event/breakthrough-award-2020/
CATEGORIES:Gründerwettbewerbe
END:VEVENT
END:VCALENDAR