BEGIN:VCALENDAR
VERSION:2.0
PRODID:-//zuschuesse - ECPv5.14.0.3//NONSGML v1.0//EN
CALSCALE:GREGORIAN
METHOD:PUBLISH
X-WR-CALNAME:zuschuesse
X-ORIGINAL-URL:https://www.zuschuesse.de
X-WR-CALDESC:Veranstaltungen für zuschuesse
BEGIN:VTIMEZONE
TZID:UTC
BEGIN:STANDARD
TZOFFSETFROM:+0000
TZOFFSETTO:+0000
TZNAME:UTC
DTSTART:20190101T000000
END:STANDARD
END:VTIMEZONE
BEGIN:VEVENT
DTSTART;VALUE=DATE:20191122
DTEND;VALUE=DATE:20191123
DTSTAMP:20260422T133641
CREATED:20190916T042817Z
LAST-MODIFIED:20190916T045948Z
UID:3812-1574380800-1574467199@www.zuschuesse.de
SUMMARY:Deutscher Gründerpreis 2020
DESCRIPTION:Der Deutsche Gründerpreis  steht für Vorbilder. In den Kategorien Schüler\, Startup\, Aufsteiger und Lebenswerk wird der Preis für sehr gute unternehmerische Leistungen vergeben. Es gibt keine Anmeldung\, da man zur Teilnahme nominiert wird. \n  \nIm Überblick \nAusrichter:           Deutscher Gründerpreis \nRegion:                  deutschlandweit \nWebseite:             www.deutscher-gruenderpreis.de/ \nBeginn:                       Anfang Oktober 2019 \nNominierungsfrist:  22. November 2019 \n  \nDie Teilnahmebedingungen \nMan bewirbt sich nicht\, sondern wird nominiert. \n  \nFür die Nominierung sollten die Kandidaten folgende Eigenschaften mitbringen: \nüberzeugende und vorbildhafte Gründerpersönlichkeit \ninnovative Geschäftsidee mit klarem Alleinstellungsmerkmal \nlangfristig tragfähiges Geschäftsmodell          und Kraft zur eigenen Marke \nnachhaltige Weiterentwicklung des Geschäftsmodells\, der Produkte sowie des Marktes \neigene Unternehmenskultur \nüberzeugende und klare Präsentation des Unternehmens \n  \nAber \nkeine Tochtergesellschaft eines bestehenden Unternehmens \nkeine Ausgründung aus einem bestehenden Unternehmen mit bereits bestehenden Produkten \nnicht durch Übernahme oder Zukauf entstanden \n  \n  \nDer Ablauf \nGeeignete Kandidaten für den Deutschen Gründerpreis begeistern mit tragfähigen Geschäftsideen und überzeugen durch eine starke Unternehmerpersönlichkeit. Sie können in diesen Kategorien nominiert werden: \nStart-up/ Aufsteiger/ Lebenswerk/ Sonderpreis/ Schüler \n  \nDie Preisverleihung \nDie Preisverleihung findet am 8. September 2020 im ZDF-Hauptstadtstudio in Berlin statt.
URL:https://www.zuschuesse.de/event/deutscher-gruenderpreis-2020/
CATEGORIES:Gründerwettbewerbe
END:VEVENT
END:VCALENDAR