BEGIN:VCALENDAR
VERSION:2.0
PRODID:-//zuschuesse - ECPv5.14.0.3//NONSGML v1.0//EN
CALSCALE:GREGORIAN
METHOD:PUBLISH
X-WR-CALNAME:zuschuesse
X-ORIGINAL-URL:https://www.zuschuesse.de
X-WR-CALDESC:Veranstaltungen für zuschuesse
BEGIN:VTIMEZONE
TZID:Europe/Helsinki
BEGIN:DAYLIGHT
TZOFFSETFROM:+0200
TZOFFSETTO:+0300
TZNAME:EEST
DTSTART:20200329T010000
END:DAYLIGHT
BEGIN:STANDARD
TZOFFSETFROM:+0300
TZOFFSETTO:+0200
TZNAME:EET
DTSTART:20201025T010000
END:STANDARD
END:VTIMEZONE
BEGIN:VEVENT
DTSTART;VALUE=DATE:20201116
DTEND;VALUE=DATE:20201123
DTSTAMP:20260420T162220
CREATED:20191021T071933Z
LAST-MODIFIED:20200311T103444Z
UID:4279-1605484800-1606089599@www.zuschuesse.de
SUMMARY:Gründerwoche
DESCRIPTION:Während der Gründerwoche können Sie bundesweit an Workshops\, Seminare\, Wettbewerbe und weiteren Veranstaltungen teilnehmen. Das Thema ist die berufliche Selbstständigkeit. \nIm Überblick \nVeranstalter:        Bundesministerium für Wirtschaft und Energie / Partner der Gründerwoche \nRegion:                  Deutschlandweit \nWebseite:             www.gruenderwoche.de \nWann:                   16.-22. November 2020 \n  \nZiele der Gründerwoche Deutschland \nBei der Gründerwoche sollen junge Menschen unternehmerisches Denken entwickeln und \nunternehmerische Kompetenzen gefördert werden. Wichtig ist der Austausch von Ideen\, Erfahrungen und Meinungen zum Thema Gründung und Selbständigkeit. \n  \nPartner und Förderer der Gründerwoche Deutschland \nZu den Partnern der Gründerwoche gehören Hochschulen\, Schulen\, Kammern\, Gründungsinitiativen\, Wirtschaftsförderungen\, Unternehmen u.a. Aufgabe der Partner ist es\, nicht-kommerzielle kostenfreie Veranstaltungen während der Gründerwoche durchzuführen. \nFörderer der Gründerwoche sind Verbände\, Netzwerke\, Bundesländer und Regionen. Ihre Aufgabe ist es\, Partner zu gewinnen\, die vor Ort Veranstaltungen durchführen. \n(Gründerwoche) \n  \nWann findet die Gründerwoche Deutschland statt? \n\n16.-22. November 2020\n15.-21. November 2021\n14.-20. November 2022\n13.-19. November 2023\n18.-24. November 2024
URL:https://www.zuschuesse.de/event/gruenderwoche/
CATEGORIES:Gründertermine
END:VEVENT
END:VCALENDAR