BEGIN:VCALENDAR
VERSION:2.0
PRODID:-//zuschuesse - ECPv5.14.0.3//NONSGML v1.0//EN
CALSCALE:GREGORIAN
METHOD:PUBLISH
X-WR-CALNAME:zuschuesse
X-ORIGINAL-URL:https://www.zuschuesse.de
X-WR-CALDESC:Veranstaltungen für zuschuesse
BEGIN:VTIMEZONE
TZID:UTC
BEGIN:STANDARD
TZOFFSETFROM:+0000
TZOFFSETTO:+0000
TZNAME:UTC
DTSTART:20200101T000000
END:STANDARD
END:VTIMEZONE
BEGIN:VEVENT
DTSTART;VALUE=DATE:20200420
DTEND;VALUE=DATE:20200421
DTSTAMP:20260420T174738
CREATED:20190916T044108Z
LAST-MODIFIED:20190916T075345Z
UID:3820-1587340800-1587427199@www.zuschuesse.de
SUMMARY:start2grow 2020 - DER GRÜNDUNGSWETTBEWERB
DESCRIPTION:start2grow 2020 – DER GRÜNDUNGSWETTBEWERB\nstart2grow begleitet Ihren Weg zum erfolgreichen Unternehmen. Egal ob Sie gerade erst ihre innovative Idee haben oder schon dabei sind ihren Businessplan zu schreiben\, Ihnen wird ein optimales Coaching\, interessante Events\, beste Kontakte zu Wirtschaft\, Wissenschaft und Kapital geboten\, sowie die Chance auf hohe Geld- und Sachpreise. \nDie besten Businesspläne bekommen Geldpreise im Gesamtwert von 84.000 Euro. \n  \nIm Überblick \nAusrichter:           Wirtschaftsförderung Dortmund \nRegion:                  Nordrhein-Westfalen \nWebseite:             www.wirtschaftsfoerderung-dortmund.de/gruendung/start2grow \nBeginn:                   24. Januar 2020 \nBewerbungsfrist: 20. April 2020 \n  \nDie Preise \n\nPreis 40.000 Euro\nPreis 20.000 Euro\nPreis 10.000 Euro\nbis 10. Preis im Wert von 2.000 Euro\n\n  \nDer Ablauf \nFür Ihre Unternehmensgründung brauchen Sie einen ausgereiften Businessplan. start2grow hilft Ihnen dabei! Wir begleiten Sie von der Geschäftsidee über den Businessplan bis zum erfolgreichen Unternehmen. Erfahrene Coaches\, ein kompetentes Netzwerk\, beste Kontakte zu Kapitalgebern\, interaktive Events\, hohe Preisgelder und das Handbuch Businessplan unterstützen diesen Weg. \n  \nDie Preisverleihung \nDie Preisverleihung findet während der start2grow-Pitch and Party am Freitag\, den 19. Juni 2020 statt.
URL:https://www.zuschuesse.de/event/start2grow-2020-der-gruendungswettbewerb/
CATEGORIES:Gründerwettbewerbe
END:VEVENT
END:VCALENDAR